BEGIN:VCALENDAR
VERSION:2.0
PRODID:-//ARMA Cascadia Chapter - ECPv6.15.15//NONSGML v1.0//EN
CALSCALE:GREGORIAN
METHOD:PUBLISH
X-ORIGINAL-URL:https://armacascadia.org
X-WR-CALDESC:Events for ARMA Cascadia Chapter
REFRESH-INTERVAL;VALUE=DURATION:PT1H
X-Robots-Tag:noindex
X-PUBLISHED-TTL:PT1H
BEGIN:VTIMEZONE
TZID:America/Los_Angeles
BEGIN:DAYLIGHT
TZOFFSETFROM:-0800
TZOFFSETTO:-0700
TZNAME:PDT
DTSTART:20250309T100000
END:DAYLIGHT
BEGIN:STANDARD
TZOFFSETFROM:-0700
TZOFFSETTO:-0800
TZNAME:PST
DTSTART:20251102T090000
END:STANDARD
BEGIN:DAYLIGHT
TZOFFSETFROM:-0800
TZOFFSETTO:-0700
TZNAME:PDT
DTSTART:20260308T100000
END:DAYLIGHT
BEGIN:STANDARD
TZOFFSETFROM:-0700
TZOFFSETTO:-0800
TZNAME:PST
DTSTART:20261101T090000
END:STANDARD
BEGIN:DAYLIGHT
TZOFFSETFROM:-0800
TZOFFSETTO:-0700
TZNAME:PDT
DTSTART:20270314T100000
END:DAYLIGHT
BEGIN:STANDARD
TZOFFSETFROM:-0700
TZOFFSETTO:-0800
TZNAME:PST
DTSTART:20271107T090000
END:STANDARD
END:VTIMEZONE
BEGIN:VEVENT
DTSTART;TZID=America/Los_Angeles:20260311T120000
DTEND;TZID=America/Los_Angeles:20260311T130000
DTSTAMP:20260421T012259
CREATED:20251111T200010Z
LAST-MODIFIED:20260307T004107Z
UID:188-1773230400-1773234000@armacascadia.org
SUMMARY:Chapter Meeting - AI Policy in Practice (Brown Bag Discussion with Special Guest Hosts)
DESCRIPTION:The ARMA Cascadia Chapter hosts meetings and educational programs monthly from September to June each year. \nFor our March 2026 meeting\, we’re excited to welcome Jesse Wilkins and Steve Weissman for an insightful brown‑bag session on AI Policy in Practice: What RIM Needs\, What’s Missing\, and How We Shape It Together. \nThey’ll walk us through real‑world examples\, highlight gaps in current AI policies\, and share what every organization should be thinking about as AI tools continue to evolve.\n  \nCurrent members of the ARMA Cascadia Chapter will receive an invitation automatically. \nNot a member? Contact us by email to request event details.
URL:https://armacascadia.org/event/2026-03/
LOCATION:Virtual\, United States
ORGANIZER;CN="ARMA Cascadia":MAILTO:armacascadia@outlook.com
END:VEVENT
BEGIN:VEVENT
DTSTART;TZID=America/Los_Angeles:20260429T110000
DTEND;TZID=America/Los_Angeles:20260429T123000
DTSTAMP:20260421T012259
CREATED:20251114T191809Z
LAST-MODIFIED:20260420T171206Z
UID:191-1777460400-1777465800@armacascadia.org
SUMMARY:Special RIM Month Program - April 29\, 2026 - Strategies for Managing Project Files
DESCRIPTION:Please SAVE THE DATE for a special *hybrid* program for Records & Information Management Month. Note the special date and meeting time. This will also be offered in hybrid format (with both in person and virtual options to attend). \n\nTopic: Strategies for Managing Project Files\nManaging project files can feel daunting. How are you supposed to handle all these records that feel like they should have different retention lengths? How do you keep drafts and proposals separate from the final product? How do you dispose of these records when they might be useful in the future? In honor of RIM month\, we’ll tackle these (and other!) questions and discuss strategies on how to keep your project files managed. \n\n👤Presenter: Hannah Kolesar\, Senior Records Consultant\, Washington State Archives\nHannah Kolesar is a Senior Records Consultant with the Washington State Archives\, working to bring clarity to the public records retention process. She holds a Master’s of Library and Information Science from Drexel University and a Master’s of Jurisprudence from the University of Washington. Prior to pivoting to records management\, she worked in academic and museum archives. She is the only person to have ever been excited to pay a recording fee.\nThe ARMA Cascadia Chapter hosts meetings and educational programs monthly from September to June each year.  \nCurrent members of the ARMA Cascadia Chapter will receive an invitation automatically. Not a member? You’ll need to email the Chapter to get meeting details.
URL:https://armacascadia.org/event/2026-04/
LOCATION:Hybrid
ORGANIZER;CN="ARMA Cascadia":MAILTO:armacascadia@outlook.com
END:VEVENT
BEGIN:VEVENT
DTSTART;TZID=America/Los_Angeles:20260513T120000
DTEND;TZID=America/Los_Angeles:20260513T130000
DTSTAMP:20260421T012259
CREATED:20251114T191903Z
LAST-MODIFIED:20260302T173617Z
UID:194-1778673600-1778677200@armacascadia.org
SUMMARY:Chapter Meeting May 2026
DESCRIPTION:The ARMA Cascadia Chapter hosts meetings and educational programs monthly from September to June each year. \nMay 2026 – Topic TBD \nPresenter: Amanda Jones\, Portland Public Schools \n  \nCurrent members of the ARMA Cascadia Chapter will receive an invitation automatically. \nNot a member? Email the Chapter at armacascadia@outlook.com to request the meeting link.
URL:https://armacascadia.org/event/2026-05/
LOCATION:Virtual\, United States
ORGANIZER;CN="ARMA Cascadia":MAILTO:armacascadia@outlook.com
END:VEVENT
BEGIN:VEVENT
DTSTART;TZID=America/Los_Angeles:20260610T120000
DTEND;TZID=America/Los_Angeles:20260610T130000
DTSTAMP:20260421T012259
CREATED:20251114T192218Z
LAST-MODIFIED:20260307T003128Z
UID:200-1781092800-1781096400@armacascadia.org
SUMMARY:Chapter Meeting - Boosting Engagement with Monthly Forums
DESCRIPTION:The ARMA Cascadia Chapter hosts meetings and educational programs monthly from September to June each year. \nLeela Yellesetty & Kristen Mercer from the Oregon Department of Environmental Quality will present: \n\n“Boosting Engagement with Monthly Forums” \nA few years back the Oregon Department of Environmental Quality’s Information Governance Team began hosting monthly virtual Records and Data Forums to share training and updates on a variety of information related topics. The forums have been a great hit at the agency\, regularly drawing upwards of 100 attendees\, and greatly boost the visibility of the team and how they can help.\nLearn about how they structure the forums to make them fun and interactive\, how they choose topics\, and of course\, they will share a selection of favorite memes!\n\n\nCurrent members of the ARMA Cascadia Chapter will receive an invitation automatically.\nNot a member? Email the Chapter receive meeting details.
URL:https://armacascadia.org/event/2026-06/
LOCATION:Virtual\, United States
ORGANIZER;CN="ARMA Cascadia":MAILTO:armacascadia@outlook.com
END:VEVENT
END:VCALENDAR